BEGIN:VCALENDAR
VERSION:2.0
PRODID:-//Norkirken Grimstad - ECPv4.6.26.2//NONSGML v1.0//EN
CALSCALE:GREGORIAN
METHOD:PUBLISH
X-WR-CALNAME:Norkirken Grimstad
X-ORIGINAL-URL:https://norkirkengrimstad.no
X-WR-CALDESC:Events for Norkirken Grimstad
BEGIN:VEVENT
DTSTART;TZID=Europe/Oslo:20171212T110000
DTEND;TZID=Europe/Oslo:20171212T130000
DTSTAMP:20260419T182824
CREATED:20170819T074837Z
LAST-MODIFIED:20170819T075535Z
UID:678-1513076400-1513083600@norkirkengrimstad.no
SUMMARY:60+ Formiddagstreff
DESCRIPTION:Halvard Myhren: Mot jul. Klavermusikk v/ Per Christian Myrstad. Utlodning. \n
URL:https://norkirkengrimstad.no/event/60-formiddagstreff-2-2017-12-19/
CATEGORIES:Aktiviteter,Senior 60+
END:VEVENT
END:VCALENDAR