BEGIN:VCALENDAR
VERSION:2.0
PRODID:-//Norkirken Grimstad - ECPv4.6.26.2//NONSGML v1.0//EN
CALSCALE:GREGORIAN
METHOD:PUBLISH
X-WR-CALNAME:Norkirken Grimstad
X-ORIGINAL-URL:https://norkirkengrimstad.no
X-WR-CALDESC:Events for Norkirken Grimstad
BEGIN:VEVENT
DTSTART;TZID=Europe/Oslo:20251203T110000
DTEND;TZID=Europe/Oslo:20251203T140000
DTSTAMP:20260420T032726
CREATED:20250813T082749Z
LAST-MODIFIED:20250813T082749Z
UID:8247-1764759600-1764770400@norkirkengrimstad.no
SUMMARY:60+ Seniorsamling
DESCRIPTION:Trykk på lenken nedenfor\, så finner du programmet for høsten: \nSeniorprogram høsten 2025 \n
URL:https://norkirkengrimstad.no/event/60-seniorsamling-7/2025-12-03/
CATEGORIES:Aktiviteter,Senior 60+
END:VEVENT
END:VCALENDAR