BEGIN:VCALENDAR
VERSION:2.0
PRODID:-//Norkirken Grimstad - ECPv4.6.26.2//NONSGML v1.0//EN
CALSCALE:GREGORIAN
METHOD:PUBLISH
X-WR-CALNAME:Norkirken Grimstad
X-ORIGINAL-URL:https://norkirkengrimstad.no
X-WR-CALDESC:Events for Norkirken Grimstad
BEGIN:VEVENT
DTSTART;TZID=Europe/Oslo:20251130T170000
DTEND;TZID=Europe/Oslo:20251130T183000
DTSTAMP:20260420T141018
CREATED:20250904T075459Z
LAST-MODIFIED:20250904T075459Z
UID:8277-1764522000-1764527400@norkirkengrimstad.no
SUMMARY:Adventkonsert
DESCRIPTION:Norkirken Grimstad \nBibelskolen i Grimstad \n
URL:https://norkirkengrimstad.no/event/adventkonsert/
CATEGORIES:Aktiviteter,Andre arrangementer
END:VEVENT
END:VCALENDAR