BEGIN:VCALENDAR
VERSION:2.0
PRODID:-//Norkirken Grimstad - ECPv4.6.26.2//NONSGML v1.0//EN
CALSCALE:GREGORIAN
METHOD:PUBLISH
X-WR-CALNAME:Norkirken Grimstad
X-ORIGINAL-URL:https://norkirkengrimstad.no
X-WR-CALDESC:Events for Norkirken Grimstad
BEGIN:VEVENT
DTSTART;TZID=Europe/Oslo:20260218T193000
DTEND;TZID=Europe/Oslo:20260218T203000
DTSTAMP:20260419T203908
CREATED:20251117T084240Z
LAST-MODIFIED:20260209T083642Z
UID:8541-1771443000-1771446600@norkirkengrimstad.no
SUMMARY:Askeonsdagsmesse
DESCRIPTION:Allment skriftemål\, nattverd. \nÅge Løsnesløkken\, Jo Bertil Værnesbranden m.fl. \n
URL:https://norkirkengrimstad.no/event/askeonsdagsmesse-4/
CATEGORIES:Aktiviteter,Gudstjeneste
END:VEVENT
END:VCALENDAR