BEGIN:VCALENDAR
VERSION:2.0
PRODID:-//Norkirken Grimstad - ECPv4.6.26.2//NONSGML v1.0//EN
CALSCALE:GREGORIAN
METHOD:PUBLISH
X-WR-CALNAME:Norkirken Grimstad
X-ORIGINAL-URL:https://norkirkengrimstad.no
X-WR-CALDESC:Events for Norkirken Grimstad
BEGIN:VEVENT
DTSTART;TZID=Europe/Oslo:20251202T110000
DTEND;TZID=Europe/Oslo:20251202T114500
DTSTAMP:20260420T014414
CREATED:20250904T074825Z
LAST-MODIFIED:20250904T074825Z
UID:8428-1764673200-1764675900@norkirkengrimstad.no
SUMMARY:Bønnemøte
DESCRIPTION:
URL:https://norkirkengrimstad.no/event/bonnemote-9/2025-12-02/
CATEGORIES:Aktiviteter,Bønnemøter
END:VEVENT
END:VCALENDAR