BEGIN:VCALENDAR
VERSION:2.0
PRODID:-//Norkirken Grimstad - ECPv4.6.26.2//NONSGML v1.0//EN
CALSCALE:GREGORIAN
METHOD:PUBLISH
X-WR-CALNAME:Norkirken Grimstad
X-ORIGINAL-URL:https://norkirkengrimstad.no
X-WR-CALDESC:Events for Norkirken Grimstad
BEGIN:VEVENT
DTSTART;TZID=Europe/Oslo:20251029T200000
DTEND;TZID=Europe/Oslo:20251029T220000
DTSTAMP:20260420T100130
CREATED:20250814T094720Z
LAST-MODIFIED:20250814T094720Z
UID:8140-1761768000-1761775200@norkirkengrimstad.no
SUMMARY:Damenes aften
DESCRIPTION:Møtepunkt for damer. Kaffe/te\, god prat rundt bordet\, kanskje strikketøy? I Norkirken hver siste onsdag i måneden. Vil du vite mer? Kontakt Helle F. Foldøy tlf. 913 07 943 \n
URL:https://norkirkengrimstad.no/event/damenes-aften-11/2025-10-29/
CATEGORIES:Aktiviteter,Damenes aften
END:VEVENT
END:VCALENDAR