BEGIN:VCALENDAR
VERSION:2.0
PRODID:-//Norkirken Grimstad - ECPv4.6.26.2//NONSGML v1.0//EN
CALSCALE:GREGORIAN
METHOD:PUBLISH
X-WR-CALNAME:Norkirken Grimstad
X-ORIGINAL-URL:https://norkirkengrimstad.no
X-WR-CALDESC:Events for Norkirken Grimstad
BEGIN:VEVENT
DTSTART;TZID=Europe/Oslo:20251103T193000
DTEND;TZID=Europe/Oslo:20251103T203000
DTSTAMP:20260420T031931
CREATED:20250905T113832Z
LAST-MODIFIED:20250922T115552Z
UID:8357-1762198200-1762201800@norkirkengrimstad.no
SUMMARY:Dametrening
DESCRIPTION:Damer 18+ trener sammen hver mandag. Ta med matte og drikkeflaske og møt opp i ganga i Norkirken. Enkel trening med egen kroppsvekt\, alle kan være med uavhengig av form. \n
URL:https://norkirkengrimstad.no/event/dametrening/2025-11-03/
CATEGORIES:Aktiviteter,Styrke jenter 18+
END:VEVENT
END:VCALENDAR