BEGIN:VCALENDAR
VERSION:2.0
PRODID:-//Norkirken Grimstad - ECPv4.6.26.2//NONSGML v1.0//EN
CALSCALE:GREGORIAN
METHOD:PUBLISH
X-WR-CALNAME:Norkirken Grimstad
X-ORIGINAL-URL:https://norkirkengrimstad.no
X-WR-CALDESC:Events for Norkirken Grimstad
BEGIN:VEVENT
DTSTART;TZID=Europe/Oslo:20250919T200000
DTEND;TZID=Europe/Oslo:20250919T230000
DTSTAMP:20260420T101254
CREATED:20250624T133442Z
LAST-MODIFIED:20251114T184353Z
UID:8041-1758312000-1758322800@norkirkengrimstad.no
SUMMARY:F13
DESCRIPTION:\nTilbud for ungdom 13 + hver fredagskveld \n\n
URL:https://norkirkengrimstad.no/event/f13-26-2025-08-29/2025-09-19/
CATEGORIES:Aktiviteter,F13
END:VEVENT
END:VCALENDAR