BEGIN:VCALENDAR
VERSION:2.0
PRODID:-//Norkirken Grimstad - ECPv4.6.26.2//NONSGML v1.0//EN
CALSCALE:GREGORIAN
METHOD:PUBLISH
X-WR-CALNAME:Norkirken Grimstad
X-ORIGINAL-URL:https://norkirkengrimstad.no
X-WR-CALDESC:Events for Norkirken Grimstad
BEGIN:VEVENT
DTSTART;TZID=Europe/Oslo:20251212T200000
DTEND;TZID=Europe/Oslo:20251212T230000
DTSTAMP:20260420T151756
CREATED:20251125T132316Z
LAST-MODIFIED:20251125T132512Z
UID:8622-1765569600-1765580400@norkirkengrimstad.no
SUMMARY:F13
DESCRIPTION:Juleavslutning \n
URL:https://norkirkengrimstad.no/event/f13-26-2025-12-12/
CATEGORIES:Aktiviteter,F13
END:VEVENT
END:VCALENDAR