BEGIN:VCALENDAR
VERSION:2.0
PRODID:-//Norkirken Grimstad - ECPv4.6.26.2//NONSGML v1.0//EN
CALSCALE:GREGORIAN
METHOD:PUBLISH
X-WR-CALNAME:Norkirken Grimstad
X-ORIGINAL-URL:https://norkirkengrimstad.no
X-WR-CALDESC:Events for Norkirken Grimstad
BEGIN:VEVENT
DTSTART;TZID=Europe/Oslo:20260522T200000
DTEND;TZID=Europe/Oslo:20260522T230000
DTSTAMP:20260419T174648
CREATED:20260414T105714Z
LAST-MODIFIED:20260414T105714Z
UID:9024-1779480000-1779490800@norkirkengrimstad.no
SUMMARY:F13
DESCRIPTION:Tilbud for ungdom 13+ hver fredag fra kl.20.00-23.00. Andakt\, lovsang\, kiosk\, leker og aktiviteter. \n
URL:https://norkirkengrimstad.no/event/f13-28/2026-05-22/
CATEGORIES:Aktiviteter,F13
END:VEVENT
END:VCALENDAR