BEGIN:VCALENDAR
VERSION:2.0
PRODID:-//Norkirken Grimstad - ECPv4.6.26.2//NONSGML v1.0//EN
CALSCALE:GREGORIAN
METHOD:PUBLISH
X-WR-CALNAME:Norkirken Grimstad
X-ORIGINAL-URL:https://norkirkengrimstad.no
X-WR-CALDESC:Events for Norkirken Grimstad
BEGIN:VEVENT
DTSTART;TZID=Europe/Oslo:20260424T200000
DTEND;TZID=Europe/Oslo:20260424T230000
DTSTAMP:20260424T141412
CREATED:20260423T113812Z
LAST-MODIFIED:20260423T113812Z
UID:9056-1777060800-1777071600@norkirkengrimstad.no
SUMMARY:F13
DESCRIPTION:For alle fra 7.klasse og oppover. Velkommen \n
URL:https://norkirkengrimstad.no/event/f13-29/
CATEGORIES:Aktiviteter,F13
END:VEVENT
END:VCALENDAR