BEGIN:VCALENDAR
VERSION:2.0
PRODID:-//Norkirken Grimstad - ECPv4.6.26.2//NONSGML v1.0//EN
CALSCALE:GREGORIAN
METHOD:PUBLISH
X-WR-CALNAME:Norkirken Grimstad
X-ORIGINAL-URL:https://norkirkengrimstad.no
X-WR-CALDESC:Events for Norkirken Grimstad
BEGIN:VEVENT
DTSTART;TZID=Europe/Oslo:20260201T110000
DTEND;TZID=Europe/Oslo:20260201T120000
DTSTAMP:20260419T235918
CREATED:20251117T083737Z
LAST-MODIFIED:20260121T102918Z
UID:8524-1769943600-1769947200@norkirkengrimstad.no
SUMMARY:Gudstjeneste med nattverd
DESCRIPTION:Åge Løsnesløkken taler. \nRepr. fra Normisjon region Agder deltar \n
URL:https://norkirkengrimstad.no/event/familiegudstjeneste-45-2026-02-01/
CATEGORIES:Aktiviteter,Gudstjeneste
END:VEVENT
END:VCALENDAR