BEGIN:VCALENDAR
VERSION:2.0
PRODID:-//Norkirken Grimstad - ECPv4.6.26.2//NONSGML v1.0//EN
CALSCALE:GREGORIAN
METHOD:PUBLISH
X-WR-CALNAME:Norkirken Grimstad
X-ORIGINAL-URL:https://norkirkengrimstad.no
X-WR-CALDESC:Events for Norkirken Grimstad
BEGIN:VEVENT
DTSTART;TZID=Europe/Oslo:20260208T110000
DTEND;TZID=Europe/Oslo:20260208T120000
DTSTAMP:20260419T234211
CREATED:20251117T083737Z
LAST-MODIFIED:20251117T084047Z
UID:8525-1770548400-1770552000@norkirkengrimstad.no
SUMMARY:Gudstjeneste med nattverd
DESCRIPTION:Alexander Løvdal taler. Inger Fredriksen leder gudstjenesten. \nKonfirmantene deltar. \n
URL:https://norkirkengrimstad.no/event/familiegudstjeneste-45-2026-02-08/
CATEGORIES:Aktiviteter,Gudstjeneste
END:VEVENT
END:VCALENDAR