BEGIN:VCALENDAR
VERSION:2.0
PRODID:-//Norkirken Grimstad - ECPv4.6.26.2//NONSGML v1.0//EN
CALSCALE:GREGORIAN
METHOD:PUBLISH
X-WR-CALNAME:Norkirken Grimstad
X-ORIGINAL-URL:https://norkirkengrimstad.no
X-WR-CALDESC:Events for Norkirken Grimstad
BEGIN:VEVENT
DTSTART;TZID=Europe/Oslo:20260215T110000
DTEND;TZID=Europe/Oslo:20260215T120000
DTSTAMP:20260419T221836
CREATED:20251117T083737Z
LAST-MODIFIED:20260211T072611Z
UID:8526-1771153200-1771156800@norkirkengrimstad.no
SUMMARY:Familiegudstjeneste
DESCRIPTION:Åge Løsnesløkken \n
URL:https://norkirkengrimstad.no/event/familiegudstjeneste-45-2026-02-15/
CATEGORIES:Aktiviteter,Gudstjeneste
END:VEVENT
END:VCALENDAR