BEGIN:VCALENDAR
VERSION:2.0
PRODID:-//Norkirken Grimstad - ECPv4.6.26.2//NONSGML v1.0//EN
CALSCALE:GREGORIAN
METHOD:PUBLISH
X-WR-CALNAME:Norkirken Grimstad
X-ORIGINAL-URL:https://norkirkengrimstad.no
X-WR-CALDESC:Events for Norkirken Grimstad
BEGIN:VEVENT
DTSTART;TZID=Europe/Oslo:20260118T110000
DTEND;TZID=Europe/Oslo:20260118T120000
DTSTAMP:20260419T223633
CREATED:20251117T083737Z
LAST-MODIFIED:20251117T083737Z
UID:8522-1768734000-1768737600@norkirkengrimstad.no
SUMMARY:Familiegudstjeneste
DESCRIPTION:Åge Løsnesløkken \n
URL:https://norkirkengrimstad.no/event/familiegudstjeneste-45/
CATEGORIES:Aktiviteter,Gudstjeneste
END:VEVENT
END:VCALENDAR