BEGIN:VCALENDAR
VERSION:2.0
PRODID:-//Norkirken Grimstad - ECPv4.6.26.2//NONSGML v1.0//EN
CALSCALE:GREGORIAN
METHOD:PUBLISH
X-WR-CALNAME:Norkirken Grimstad
X-ORIGINAL-URL:https://norkirkengrimstad.no
X-WR-CALDESC:Events for Norkirken Grimstad
BEGIN:VEVENT
DTSTART;TZID=Europe/Oslo:20171217T170000
DTEND;TZID=Europe/Oslo:20171217T190000
DTSTAMP:20260419T152116
CREATED:20170819T070401Z
LAST-MODIFIED:20171209T111321Z
UID:641-1513530000-1513537200@norkirkengrimstad.no
SUMMARY:Gudstjeneste
DESCRIPTION:Kurt Hjemdal: Bered Herrens vei. \n
URL:https://norkirkengrimstad.no/event/gudstjeneste-4-2017-12-17/
CATEGORIES:Aktiviteter,Gudstjeneste
END:VEVENT
END:VCALENDAR