BEGIN:VCALENDAR
VERSION:2.0
PRODID:-//Norkirken Grimstad - ECPv4.6.26.2//NONSGML v1.0//EN
CALSCALE:GREGORIAN
METHOD:PUBLISH
X-WR-CALNAME:Norkirken Grimstad
X-ORIGINAL-URL:https://norkirkengrimstad.no
X-WR-CALDESC:Events for Norkirken Grimstad
BEGIN:VEVENT
DTSTART;TZID=Europe/Oslo:20251019T190000
DTEND;TZID=Europe/Oslo:20251019T200000
DTSTAMP:20260420T112959
CREATED:20250624T132658Z
LAST-MODIFIED:20250624T132658Z
UID:8024-1760900400-1760904000@norkirkengrimstad.no
SUMMARY:Kveldsgudstjeneste
DESCRIPTION:Kveldsgudstjeneste med skriftemål og nattverd \nÅge Løsnesløkken \n
URL:https://norkirkengrimstad.no/event/gudstjeneste-47-2025-10-19/
CATEGORIES:Aktiviteter,Gudstjeneste
END:VEVENT
END:VCALENDAR