BEGIN:VCALENDAR
VERSION:2.0
PRODID:-//Norkirken Grimstad - ECPv4.6.26.2//NONSGML v1.0//EN
CALSCALE:GREGORIAN
METHOD:PUBLISH
X-WR-CALNAME:Norkirken Grimstad
X-ORIGINAL-URL:https://norkirkengrimstad.no
X-WR-CALDESC:Events for Norkirken Grimstad
BEGIN:VEVENT
DTSTART;TZID=Europe/Oslo:20251116T110000
DTEND;TZID=Europe/Oslo:20251116T123000
DTSTAMP:20260420T115222
CREATED:20250624T135320Z
LAST-MODIFIED:20250624T135320Z
UID:8061-1763290800-1763296200@norkirkengrimstad.no
SUMMARY:Gudstjeneste med nattverd
DESCRIPTION:\nÅge Løsnesløkken \n\n
URL:https://norkirkengrimstad.no/event/gudstjeneste-48-2025-11-16/
CATEGORIES:Aktiviteter,Gudstjeneste
END:VEVENT
END:VCALENDAR