BEGIN:VCALENDAR
VERSION:2.0
PRODID:-//Norkirken Grimstad - ECPv4.6.26.2//NONSGML v1.0//EN
CALSCALE:GREGORIAN
METHOD:PUBLISH
X-WR-CALNAME:Norkirken Grimstad
X-ORIGINAL-URL:https://norkirkengrimstad.no
X-WR-CALDESC:Events for Norkirken Grimstad
BEGIN:VEVENT
DTSTART;TZID=Europe/Oslo:20260104T110000
DTEND;TZID=Europe/Oslo:20260104T123000
DTSTAMP:20260420T100232
CREATED:20251117T082649Z
LAST-MODIFIED:20251117T083206Z
UID:8479-1767524400-1767529800@norkirkengrimstad.no
SUMMARY:Gudstjeneste med nattverd
DESCRIPTION:Kurt Hjemdal taler. Liturg er Åge Løsnesløkken \n
URL:https://norkirkengrimstad.no/event/gudstjeneste-med-nattverd-103/
CATEGORIES:Aktiviteter,Gudstjeneste
END:VEVENT
END:VCALENDAR