BEGIN:VCALENDAR
VERSION:2.0
PRODID:-//Norkirken Grimstad - ECPv4.6.26.2//NONSGML v1.0//EN
CALSCALE:GREGORIAN
METHOD:PUBLISH
X-WR-CALNAME:Norkirken Grimstad
X-ORIGINAL-URL:https://norkirkengrimstad.no
X-WR-CALDESC:Events for Norkirken Grimstad
BEGIN:VEVENT
DTSTART;TZID=Europe/Oslo:20260322T110000
DTEND;TZID=Europe/Oslo:20260322T123000
DTSTAMP:20260419T165625
CREATED:20251117T082916Z
LAST-MODIFIED:20251117T092919Z
UID:8491-1774177200-1774182600@norkirkengrimstad.no
SUMMARY:Gudstjeneste med nattverd
DESCRIPTION:Åge Løsnesløkken \n
URL:https://norkirkengrimstad.no/event/gudstjeneste-med-nattverd-104/
CATEGORIES:Aktiviteter,Gudstjeneste
END:VEVENT
END:VCALENDAR