BEGIN:VCALENDAR
VERSION:2.0
PRODID:-//Norkirken Grimstad - ECPv4.6.26.2//NONSGML v1.0//EN
CALSCALE:GREGORIAN
METHOD:PUBLISH
X-WR-CALNAME:Norkirken Grimstad
X-ORIGINAL-URL:https://norkirkengrimstad.no
X-WR-CALDESC:Events for Norkirken Grimstad
BEGIN:VEVENT
DTSTART;TZID=Europe/Oslo:20260111T110000
DTEND;TZID=Europe/Oslo:20260111T123000
DTSTAMP:20260419T235113
CREATED:20251117T083356Z
LAST-MODIFIED:20260106T080502Z
UID:8509-1768129200-1768134600@norkirkengrimstad.no
SUMMARY:Lovsangsgudstjeneste med nattverd
DESCRIPTION:Anne Mari Vadset taler. Hildegunn Garnes Reigstad leder gudstjenesten og har musikalsk ansvar. \n
URL:https://norkirkengrimstad.no/event/gudstjeneste-med-nattverd-105/
CATEGORIES:Aktiviteter,Gudstjeneste
END:VEVENT
END:VCALENDAR