BEGIN:VCALENDAR
VERSION:2.0
PRODID:-//Norkirken Grimstad - ECPv4.6.26.2//NONSGML v1.0//EN
CALSCALE:GREGORIAN
METHOD:PUBLISH
X-WR-CALNAME:Norkirken Grimstad
X-ORIGINAL-URL:https://norkirkengrimstad.no
X-WR-CALDESC:Events for Norkirken Grimstad
BEGIN:VEVENT
DTSTART;TZID=Europe/Oslo:20250924T180000
DTEND;TZID=Europe/Oslo:20250924T203000
DTSTAMP:20260420T092237
CREATED:20250825T081517Z
LAST-MODIFIED:20250924T085621Z
UID:8185-1758736800-1758745800@norkirkengrimstad.no
SUMMARY:AVLYST - GutteTWEENS
DESCRIPTION:PROGRAM \nOns 3 sept kl 18-2030. Guttetweens: Rapell. Oppmøte ved Molland 20. Bekledning etter vær! Vi er ute! \nFre 24. sept.  AVLYST PÅ GRUNN AV SYKDOM. Svømmehall. Oppmøte og henting ved Norkirken. \nOns 8. okt kl 18-2030. Guttetweens: Blåtur. Oppmøte og henting ved Norkirken. \nFred. 31. okt. kl. 18 – Lør 1. nov. kl. 10. Guttetweens: Overlevelse. Oppmøte og henting Molland 20. Bekledning etter vær. Vi overnatter ute. Mer info. kommer. \nOns 19. nov: 18-2030. Guttetweens: Hockey. Oppmøte og henting Norkirken. \nOns 3. des: 18-2030. Guttetweens: Pepperkakekonkurranse! Vi baker Grimstads høyeste pepperkakehus. I Norkirken. \n  \nSpørsmål? Spør lederne Finn Oscar Karlsen\, Erlend Sødal eller Kristian Øie Pedersen \n
URL:https://norkirkengrimstad.no/event/guttetweens-32/
CATEGORIES:Aktiviteter,TWEENS
END:VEVENT
END:VCALENDAR