BEGIN:VCALENDAR
VERSION:2.0
PRODID:-//Norkirken Grimstad - ECPv4.6.26.2//NONSGML v1.0//EN
CALSCALE:GREGORIAN
METHOD:PUBLISH
X-WR-CALNAME:Norkirken Grimstad
X-ORIGINAL-URL:https://norkirkengrimstad.no
X-WR-CALDESC:Events for Norkirken Grimstad
BEGIN:VEVENT
DTSTART;TZID=Europe/Oslo:20251119T180000
DTEND;TZID=Europe/Oslo:20251119T203000
DTSTAMP:20260420T051834
CREATED:20250825T081638Z
LAST-MODIFIED:20251016T111935Z
UID:8189-1763575200-1763584200@norkirkengrimstad.no
SUMMARY:GutteTWEENS
DESCRIPTION:PROGRAM \nOns 3 sept kl 18-2030. Guttetweens: Rapell. Oppmøte ved Molland 20. Bekledning etter vær! Vi er ute! \nFre 24. sept.  Guttetweens. Svømmehall. Oppmøte og henting ved Norkirken. \nOns 8. okt kl 18-2030. Guttetweens: Blåtur. Oppmøte og henting ved Norkirken. \nOns 19. nov: 18-2030. Guttetweens: Hockey. Oppmøte og henting Norkirken. \nOns 3. des: 18-2030. Guttetweens: Pepperkakekonkurranse! Vi baker Grimstads høyeste pepperkakehus. I Norkirken. \n  \nSpørsmål? Spør lederne Finn Oscar Karlsen\, Erlend Sødal eller Kristian Øie Pedersen \n
URL:https://norkirkengrimstad.no/event/guttetweens-34/
CATEGORIES:Aktiviteter,TWEENS
END:VEVENT
END:VCALENDAR