BEGIN:VCALENDAR
VERSION:2.0
PRODID:-//Norkirken Grimstad - ECPv4.6.26.2//NONSGML v1.0//EN
CALSCALE:GREGORIAN
METHOD:PUBLISH
X-WR-CALNAME:Norkirken Grimstad
X-ORIGINAL-URL:https://norkirkengrimstad.no
X-WR-CALDESC:Events for Norkirken Grimstad
BEGIN:VEVENT
DTSTART;TZID=Europe/Oslo:20251225T110000
DTEND;TZID=Europe/Oslo:20251225T123000
DTSTAMP:20260420T050738
CREATED:20250624T140759Z
LAST-MODIFIED:20250910T085342Z
UID:8075-1766660400-1766665800@norkirkengrimstad.no
SUMMARY:Høytidsgudstjeneste med nattverd
DESCRIPTION:Kurt Hjemdal taler \nÅge Løsnesløkken leder gudstjenesten \n
URL:https://norkirkengrimstad.no/event/hoytidsgudstjeneste-med-nattverd-8/
CATEGORIES:Aktiviteter,Gudstjeneste
END:VEVENT
END:VCALENDAR