BEGIN:VCALENDAR
VERSION:2.0
PRODID:-//Norkirken Grimstad - ECPv4.6.26.2//NONSGML v1.0//EN
CALSCALE:GREGORIAN
METHOD:PUBLISH
X-WR-CALNAME:Norkirken Grimstad
X-ORIGINAL-URL:https://norkirkengrimstad.no
X-WR-CALDESC:Events for Norkirken Grimstad
BEGIN:VEVENT
DTSTART;TZID=Europe/Oslo:20260209T190000
DTEND;TZID=Europe/Oslo:20260209T203000
DTSTAMP:20260420T012633
CREATED:20260114T085829Z
LAST-MODIFIED:20260114T091402Z
UID:8843-1770663600-1770669000@norkirkengrimstad.no
SUMMARY:Israelsmisjonsmøte
DESCRIPTION:Kurt Hjemdal underviser \nArrangementet er et samarbeid mellom Frikirken og Norkirken \n
URL:https://norkirkengrimstad.no/event/israelsmisjonsmote-6/
CATEGORIES:Aktiviteter,Andre arrangementer
END:VEVENT
END:VCALENDAR