BEGIN:VCALENDAR
VERSION:2.0
PRODID:-//Norkirken Grimstad - ECPv4.6.26.2//NONSGML v1.0//EN
CALSCALE:GREGORIAN
METHOD:PUBLISH
X-WR-CALNAME:Norkirken Grimstad
X-ORIGINAL-URL:https://norkirkengrimstad.no
X-WR-CALDESC:Events for Norkirken Grimstad
BEGIN:VEVENT
DTSTART;TZID=Europe/Oslo:20250904T183000
DTEND;TZID=Europe/Oslo:20250904T200000
DTSTAMP:20260420T145725
CREATED:20250827T084606Z
LAST-MODIFIED:20250830T101505Z
UID:8209-1757010600-1757016000@norkirkengrimstad.no
SUMMARY:JenteTWEENS
DESCRIPTION:JenteTWEENS er samlinger for jenter fra 5. klasse og oppover. Høstens plan ser slik ut: \n\n 4.sept  Oppmøte utenfor Norkirken.\n9.okt\n6.nov\nONSDAG 10.des\n\nHar du spørsmål om JenteTWEENS\, kontakt Gunn Marte Karlsen på tlf. 473 66 742 \n
URL:https://norkirkengrimstad.no/event/jentetweens-31/
CATEGORIES:Aktiviteter,TWEENS
END:VEVENT
END:VCALENDAR