BEGIN:VCALENDAR
VERSION:2.0
PRODID:-//Norkirken Grimstad - ECPv4.6.26.2//NONSGML v1.0//EN
CALSCALE:GREGORIAN
METHOD:PUBLISH
X-WR-CALNAME:Norkirken Grimstad
X-ORIGINAL-URL:https://norkirkengrimstad.no
X-WR-CALDESC:Events for Norkirken Grimstad
BEGIN:VEVENT
DTSTART;TZID=Europe/Oslo:20251009T183000
DTEND;TZID=Europe/Oslo:20251009T200000
DTSTAMP:20260420T103221
CREATED:20250910T091444Z
LAST-MODIFIED:20250910T091444Z
UID:8333-1760034600-1760040000@norkirkengrimstad.no
SUMMARY:JenteTWEENS
DESCRIPTION:\n\nJenteTWEENS er samlinger for jenter fra 5. klasse og oppover. Datoene for høsten er 4. september\, 9.oktober\, 6.november og ONSDAG 10.desember. Har du spørsmål om JenteTWEENS\, kontakt Gunn Marte Karlsen på tlf. 473 66 742\n\n\n
URL:https://norkirkengrimstad.no/event/jentetweens-32/2025-10-09/
CATEGORIES:Aktiviteter,TWEENS
END:VEVENT
END:VCALENDAR