BEGIN:VCALENDAR
VERSION:2.0
PRODID:-//Norkirken Grimstad - ECPv4.6.26.2//NONSGML v1.0//EN
CALSCALE:GREGORIAN
METHOD:PUBLISH
X-WR-CALNAME:Norkirken Grimstad
X-ORIGINAL-URL:https://norkirkengrimstad.no
X-WR-CALDESC:Events for Norkirken Grimstad
BEGIN:VEVENT
DTSTART;TZID=Europe/Oslo:20251224T150000
DTEND;TZID=Europe/Oslo:20251224T160000
DTSTAMP:20260420T033837
CREATED:20250624T140714Z
LAST-MODIFIED:20250910T085357Z
UID:8073-1766588400-1766592000@norkirkengrimstad.no
SUMMARY:Julaftensgudstjeneste
DESCRIPTION:Åge Løsnesløkken taler \n
URL:https://norkirkengrimstad.no/event/julaftensgudstjeneste-8/
CATEGORIES:Aktiviteter,Gudstjeneste
END:VEVENT
END:VCALENDAR