BEGIN:VCALENDAR
VERSION:2.0
PRODID:-//Norkirken Grimstad - ECPv4.6.26.2//NONSGML v1.0//EN
CALSCALE:GREGORIAN
METHOD:PUBLISH
X-WR-CALNAME:Norkirken Grimstad
X-ORIGINAL-URL:https://norkirkengrimstad.no
X-WR-CALDESC:Events for Norkirken Grimstad
BEGIN:VEVENT
DTSTART;TZID=Europe/Oslo:20251021T150000
DTEND;TZID=Europe/Oslo:20251021T170000
DTSTAMP:20260420T001254
CREATED:20251006T100222Z
LAST-MODIFIED:20251006T100222Z
UID:8397-1761058800-1761066000@norkirkengrimstad.no
SUMMARY:Konfirmantundervisning
DESCRIPTION:Middag\, undervisning og gruppesamtaler for konfirmantene \n
URL:https://norkirkengrimstad.no/event/konfirmantundervisning-7/2025-10-21/
CATEGORIES:Aktiviteter,Konfirmasjon
END:VEVENT
END:VCALENDAR