BEGIN:VCALENDAR
VERSION:2.0
PRODID:-//Norkirken Grimstad - ECPv4.6.26.2//NONSGML v1.0//EN
CALSCALE:GREGORIAN
METHOD:PUBLISH
X-WR-CALNAME:Norkirken Grimstad
X-ORIGINAL-URL:https://norkirkengrimstad.no
X-WR-CALDESC:Events for Norkirken Grimstad
BEGIN:VEVENT
DTSTART;TZID=Europe/Oslo:20260414T200000
DTEND;TZID=Europe/Oslo:20260414T213000
DTSTAMP:20260419T175433
CREATED:20251029T124605Z
LAST-MODIFIED:20260224T130906Z
UID:8451-1776196800-1776202200@norkirkengrimstad.no
SUMMARY:Hvilestedet
DESCRIPTION:Kveldssamling med hvilepuls \nStillhet\, bønn\, lovsang\, fellesskap \nAnsv. Hildegunn Garnes Reigstad \n
URL:https://norkirkengrimstad.no/event/lovsangskveld-3/
CATEGORIES:Aktiviteter,Andre arrangementer
END:VEVENT
END:VCALENDAR