BEGIN:VCALENDAR
VERSION:2.0
PRODID:-//Norkirken Grimstad - ECPv4.6.26.2//NONSGML v1.0//EN
CALSCALE:GREGORIAN
METHOD:PUBLISH
X-WR-CALNAME:Norkirken Grimstad
X-ORIGINAL-URL:https://norkirkengrimstad.no
X-WR-CALDESC:Events for Norkirken Grimstad
BEGIN:VEVENT
DTSTART;VALUE=DATE:20251024
DTEND;VALUE=DATE:20251027
DTSTAMP:20260420T050702
CREATED:20250910T073649Z
LAST-MODIFIED:20250910T073649Z
UID:8324-1761264000-1761523199@norkirkengrimstad.no
SUMMARY:Menighetsweekend\, Fyresdal
DESCRIPTION:Les mer om turen\, påmelding mm. her: \n\nMENIGHETSTUR 24.-26. OKTOBER 2025 \n\n
URL:https://norkirkengrimstad.no/event/menighetsweekend-fyresdal-3/
CATEGORIES:Aktiviteter
END:VEVENT
END:VCALENDAR