BEGIN:VCALENDAR
VERSION:2.0
PRODID:-//Norkirken Grimstad - ECPv4.6.26.2//NONSGML v1.0//EN
CALSCALE:GREGORIAN
METHOD:PUBLISH
X-WR-CALNAME:Norkirken Grimstad
X-ORIGINAL-URL:https://norkirkengrimstad.no
X-WR-CALDESC:Events for Norkirken Grimstad
BEGIN:VEVENT
DTSTART;TZID=Europe/Oslo:20251009T203000
DTEND;TZID=Europe/Oslo:20251009T223000
DTSTAMP:20260420T122244
CREATED:20250815T081237Z
LAST-MODIFIED:20250925T075014Z
UID:8144-1760041800-1760049000@norkirkengrimstad.no
SUMMARY:MENN I ALL VERDEN
DESCRIPTION:
URL:https://norkirkengrimstad.no/event/menn-i-all-verden-17-2025-10-02/
CATEGORIES:Aktiviteter,Menn i all verden
END:VEVENT
END:VCALENDAR