BEGIN:VCALENDAR
VERSION:2.0
PRODID:-//Norkirken Grimstad - ECPv4.6.26.2//NONSGML v1.0//EN
CALSCALE:GREGORIAN
METHOD:PUBLISH
X-WR-CALNAME:Norkirken Grimstad
X-ORIGINAL-URL:https://norkirkengrimstad.no
X-WR-CALDESC:Events for Norkirken Grimstad
BEGIN:VEVENT
DTSTART;TZID=Europe/Oslo:20251207T170000
DTEND;TZID=Europe/Oslo:20251207T183000
DTSTAMP:20260420T114301
CREATED:20250905T113512Z
LAST-MODIFIED:20250905T113512Z
UID:8295-1765126800-1765132200@norkirkengrimstad.no
SUMMARY:Soul Children - Lysmesse i Landvik kirke
DESCRIPTION:Soul Children er med på Lysmesse i Landvik kirke \n
URL:https://norkirkengrimstad.no/event/soul-children-lysmesse-i-landvik-kirke/
CATEGORIES:Aktiviteter,Soul Children
END:VEVENT
END:VCALENDAR