BEGIN:VCALENDAR
VERSION:2.0
PRODID:-//Norkirken Grimstad - ECPv4.6.26.2//NONSGML v1.0//EN
CALSCALE:GREGORIAN
METHOD:PUBLISH
X-WR-CALNAME:Norkirken Grimstad
X-ORIGINAL-URL:https://norkirkengrimstad.no
X-WR-CALDESC:Events for Norkirken Grimstad
BEGIN:VEVENT
DTSTART;TZID=Europe/Oslo:20251108T140000
DTEND;TZID=Europe/Oslo:20251108T180000
DTSTAMP:20260420T082623
CREATED:20250905T113418Z
LAST-MODIFIED:20250905T113418Z
UID:8293-1762610400-1762624800@norkirkengrimstad.no
SUMMARY:Soul Children - øvelse i Grimstad kirke
DESCRIPTION:Øvelse for band og kor i Grimstad kirke før Soul Church på søndag \n
URL:https://norkirkengrimstad.no/event/soul-children-ovelse-i-grimstad-kirke/
CATEGORIES:Aktiviteter,Soul Children
END:VEVENT
END:VCALENDAR