BEGIN:VCALENDAR
VERSION:2.0
PRODID:-//Norkirken Grimstad - ECPv4.6.26.2//NONSGML v1.0//EN
CALSCALE:GREGORIAN
METHOD:PUBLISH
X-WR-CALNAME:Norkirken Grimstad
X-ORIGINAL-URL:https://norkirkengrimstad.no
X-WR-CALDESC:Events for Norkirken Grimstad
BEGIN:VEVENT
DTSTART;TZID=Europe/Oslo:20251013T173000
DTEND;TZID=Europe/Oslo:20251013T183000
DTSTAMP:20260420T134223
CREATED:20250624T132600Z
LAST-MODIFIED:20250830T073807Z
UID:8022-1760376600-1760380200@norkirkengrimstad.no
SUMMARY:SPRELL
DESCRIPTION:
URL:https://norkirkengrimstad.no/event/sprell-7/
CATEGORIES:Aktiviteter,SPRELL
END:VEVENT
END:VCALENDAR